BEGIN:VCALENDAR
CALSCALE:GREGORIAN
PRODID:-//Ben Fortuna//iCal4j 1.0//EN
VERSION:2.0
BEGIN:VEVENT
DTSTAMP:20260121T200010Z
DTSTART:20260121T130000
DTEND:20260121T150000
SUMMARY:Federal Impacts\n\nLabor Impacts\n\nSophie Zdatny\, Legislative C
 ounsel\, Office of Legislative Counsel\n\nKendal Smith\, Commissioner\, 
 Vermont Department of Labor\n\nChris Winters\, Deputy Commissioner\, Ver
 mont Department of Labor\n\nRobert Depper\, General Counsel\, Department
  of Labor\n\nDavid Mickenberg\, Lobbyist\, Working Vermont\n\nJ.P. Isabe
 lle\, Executive Director\, Vermont State Labor Council AFL-CIO - Room 31
 
TZID:America/New_York
UID:20260121T200021Z-uidGen@richgoldman-357e73
END:VEVENT
BEGIN:VALARM
TRIGGER:-PT15M
ACTION:DISPLAY
DESCRIPTION:Federal Impacts\n\nLabor Impacts\n\nSophie Zdatny\, Legislati
 ve Counsel\, Office of Legislative Counsel\n\nKendal Smith\, Commissione
 r\, Vermont Department of Labor\n\nChris Winters\, Deputy Commissioner\,
  Vermont Department of Labor\n\nRobert Depper\, General Counsel\, Depart
 ment of Labor\n\nDavid Mickenberg\, Lobbyist\, Working Vermont\n\nJ.P. I
 sabelle\, Executive Director\, Vermont State Labor Council AFL-CIO - Roo
 m 31
END:VALARM
END:VCALENDAR
