BEGIN:VCALENDAR
CALSCALE:GREGORIAN
PRODID:-//Ben Fortuna//iCal4j 1.0//EN
VERSION:2.0
BEGIN:VEVENT
DTSTAMP:20260120T200010Z
DTSTART:20260121T130000
DTEND:20260121T150000
SUMMARY:Vermont Medicaid Reentry Program\n\n1115 waiver\n\nAviva Tevah\, 
 Executive Director of Health\, Wellness and Engagement\, Department of C
 orrections\n\nRenee Weeks\, Director of Complex Care & Field Services\, 
 Agency of Human Services - Room 34
TZID:America/New_York
UID:20260120T200040Z-uidGen@richgoldman-357e73
END:VEVENT
BEGIN:VALARM
TRIGGER:-PT15M
ACTION:DISPLAY
DESCRIPTION:Vermont Medicaid Reentry Program\n\n1115 waiver\n\nAviva Teva
 h\, Executive Director of Health\, Wellness and Engagement\, Department 
 of Corrections\n\nRenee Weeks\, Director of Complex Care & Field Service
 s\, Agency of Human Services - Room 34
END:VALARM
END:VCALENDAR
