BEGIN:VCALENDAR
CALSCALE:GREGORIAN
PRODID:-//Ben Fortuna//iCal4j 1.0//EN
VERSION:2.0
BEGIN:VEVENT
DTSTAMP:20260121T210010Z
DTSTART:20260121T132000
DTEND:20260121T152000
SUMMARY:Transportation FY27 Budget\n\nFY2027 Budget\n\nCandace Elmquist\,
  Chief Financial Officer\, Agency of Transportation - Room 43
TZID:America/New_York
UID:20260121T210016Z-uidGen@richgoldman-357e73
END:VEVENT
BEGIN:VALARM
TRIGGER:-PT15M
ACTION:DISPLAY
DESCRIPTION:Transportation FY27 Budget\n\nFY2027 Budget\n\nCandace Elmqui
 st\, Chief Financial Officer\, Agency of Transportation - Room 43
END:VALARM
END:VCALENDAR
