BEGIN:VCALENDAR
CALSCALE:GREGORIAN
PRODID:-//Ben Fortuna//iCal4j 1.0//EN
VERSION:2.0
BEGIN:VEVENT
DTSTAMP:20260121T200010Z
DTSTART:20260121T130000
DTEND:20260121T150000
SUMMARY:H. 516 - An act relating to approval of amendments to the charter
  of the Town of Essex\n\nWitness testimony\n\nGreg Duggan\, Town Manager
 \, Essex - Zoom\n\nKendall Chamberlin\, Vice Chair of Selectboard\, Esse
 x Selectboard - Zoom\n\nTucker Anderson\, Legislative Counsel\, Office o
 f Legislative Counsel - Room M106
TZID:America/New_York
UID:20260121T200022Z-uidGen@richgoldman-357e73
END:VEVENT
BEGIN:VALARM
TRIGGER:-PT15M
ACTION:DISPLAY
DESCRIPTION:H. 516 - An act relating to approval of amendments to the cha
 rter of the Town of Essex\n\nWitness testimony\n\nGreg Duggan\, Town Man
 ager\, Essex - Zoom\n\nKendall Chamberlin\, Vice Chair of Selectboard\, 
 Essex Selectboard - Zoom\n\nTucker Anderson\, Legislative Counsel\, Offi
 ce of Legislative Counsel - Room M106
END:VALARM
END:VCALENDAR
