BEGIN:VCALENDAR
CALSCALE:GREGORIAN
PRODID:-//Ben Fortuna//iCal4j 1.0//EN
VERSION:2.0
BEGIN:VEVENT
DTSTAMP:20260120T190010Z
DTSTART:20260121T131500
DTEND:20260121T151500
SUMMARY:Human Rights Commission\n\nDiscussion on Report\n\nBig Hartman\, 
 Executive Director & General Counsel\, Vermont Human Rights Commission -
  Room 35
TZID:America/New_York
UID:20260120T190131Z-uidGen@richgoldman-357e73
END:VEVENT
BEGIN:VALARM
TRIGGER:-PT15M
ACTION:DISPLAY
DESCRIPTION:Human Rights Commission\n\nDiscussion on Report\n\nBig Hartma
 n\, Executive Director & General Counsel\, Vermont Human Rights Commissi
 on - Room 35
END:VALARM
END:VCALENDAR
