BEGIN:VCALENDAR
CALSCALE:GREGORIAN
PRODID:-//Ben Fortuna//iCal4j 1.0//EN
VERSION:2.0
BEGIN:VEVENT
DTSTAMP:20260121T200010Z
DTSTART:20260121T132000
DTEND:20260121T152000
SUMMARY:FY26 Budget Adjustment Act\n\nDepartment for Children and Familie
 s\n\nSandi Hoffman\, Interim Commissioner\, Department for Children and 
 Families\n\nMegan Smeaton\, Financial Director\, Department for Children
  and Families\n\nLily Sojourner\, Director\, Office of Economic Opportun
 ity\, Department for Children and Families\n\nNolan Langweil\, Principal
  Fiscal Analyst\, Joint Fiscal Office - Room 9
TZID:America/New_York
UID:20260121T200025Z-uidGen@richgoldman-357e73
END:VEVENT
BEGIN:VALARM
TRIGGER:-PT15M
ACTION:DISPLAY
DESCRIPTION:FY26 Budget Adjustment Act\n\nDepartment for Children and Fam
 ilies\n\nSandi Hoffman\, Interim Commissioner\, Department for Children 
 and Families\n\nMegan Smeaton\, Financial Director\, Department for Chil
 dren and Families\n\nLily Sojourner\, Director\, Office of Economic Oppo
 rtunity\, Department for Children and Families\n\nNolan Langweil\, Princ
 ipal Fiscal Analyst\, Joint Fiscal Office - Room 9
END:VALARM
END:VCALENDAR
