BEGIN:VCALENDAR
CALSCALE:GREGORIAN
PRODID:-//Ben Fortuna//iCal4j 1.0//EN
VERSION:2.0
BEGIN:VEVENT
DTSTAMP:20260120T160010Z
DTSTART:20260121T131500
DTEND:20260121T151500
SUMMARY:H. 541 - An act relating to interference with voters and election
  officials\n\nWitness Testimony\n\nTim Devlin\, Legislative Counsel\, Of
 fice of Legislative Counsel - Invited\n\nRodney Smolla\, President\, Ver
 mont Law School\n\nFalko Schilling\, Advocacy Director\, ACLU of Vermont
  - Invited - Room 30
TZID:America/New_York
UID:20260120T160052Z-uidGen@richgoldman-357e73
END:VEVENT
BEGIN:VALARM
TRIGGER:-PT15M
ACTION:DISPLAY
DESCRIPTION:H. 541 - An act relating to interference with voters and elec
 tion officials\n\nWitness Testimony\n\nTim Devlin\, Legislative Counsel\
 , Office of Legislative Counsel - Invited\n\nRodney Smolla\, President\,
  Vermont Law School\n\nFalko Schilling\, Advocacy Director\, ACLU of Ver
 mont - Invited - Room 30
END:VALARM
END:VCALENDAR
