BEGIN:VCALENDAR
CALSCALE:GREGORIAN
PRODID:-//Ben Fortuna//iCal4j 1.0//EN
VERSION:2.0
BEGIN:VEVENT
DTSTAMP:20260121T170010Z
DTSTART:20260121T131500
DTEND:20260121T151500
SUMMARY:Equitable Budgeting\n\nNathan Lavery\, Executive Director of Fina
 nce\, Burlington School District - Zoom - Room M103
TZID:America/New_York
UID:20260121T170028Z-uidGen@richgoldman-357e73
END:VEVENT
BEGIN:VALARM
TRIGGER:-PT15M
ACTION:DISPLAY
DESCRIPTION:Equitable Budgeting\n\nNathan Lavery\, Executive Director of 
 Finance\, Burlington School District - Zoom - Room M103
END:VALARM
END:VCALENDAR
