BEGIN:VCALENDAR
CALSCALE:GREGORIAN
PRODID:-//Ben Fortuna//iCal4j 1.0//EN
VERSION:2.0
BEGIN:VEVENT
DTSTAMP:20260120T150010Z
DTSTART:20260121T131500
DTEND:20260121T151500
SUMMARY:H. 632 - An act relating to miscellaneous environmental amendment
 s\n\nMichael O'Grady\, Deputy Chief Counsel\, Office of Legislative Coun
 sel - Room EA
TZID:America/New_York
UID:20260120T150103Z-uidGen@richgoldman-357e73
END:VEVENT
BEGIN:VALARM
TRIGGER:-PT15M
ACTION:DISPLAY
DESCRIPTION:H. 632 - An act relating to miscellaneous environmental amend
 ments\n\nMichael O'Grady\, Deputy Chief Counsel\, Office of Legislative 
 Counsel - Room EA
END:VALARM
END:VCALENDAR
