BEGIN:VCALENDAR
CALSCALE:GREGORIAN
PRODID:-//Ben Fortuna//iCal4j 1.0//EN
VERSION:2.0
BEGIN:VEVENT
DTSTAMP:20260121T150010Z
DTSTART:20260121T131500
DTEND:20260121T151500
SUMMARY:H. 204 - An act relating to the collection and recycling of waste
  motor vehicle tires\n\nMichael O'Grady\, Deputy Chief Counsel\, Office 
 of Legislative Counsel - Room EA
TZID:America/New_York
UID:20260121T150053Z-uidGen@richgoldman-357e73
END:VEVENT
BEGIN:VALARM
TRIGGER:-PT15M
ACTION:DISPLAY
DESCRIPTION:H. 204 - An act relating to the collection and recycling of w
 aste motor vehicle tires\n\nMichael O'Grady\, Deputy Chief Counsel\, Off
 ice of Legislative Counsel - Room EA
END:VALARM
END:VCALENDAR
