BEGIN:VCALENDAR
CALSCALE:GREGORIAN
PRODID:-//Ben Fortuna//iCal4j 1.0//EN
VERSION:2.0
BEGIN:VEVENT
DTSTAMP:20260121T200010Z
DTSTART:20260121T133000
DTEND:20260121T153000
SUMMARY:Municipal Regulation of Agriculture\n\nStakeholder Testimony by V
 ermont League of Cities and Town\n\nJosh Hanford\, Director of Intergove
 rnmental Affairs\, Vermont League of Cities and Towns\n\nSamantha Sheeha
 n\, Municipal Policy and Advocacy Specialist\, Vermont League of Cities 
 and Towns - Room 49
TZID:America/New_York
UID:20260121T200030Z-uidGen@richgoldman-357e73
END:VEVENT
BEGIN:VALARM
TRIGGER:-PT15M
ACTION:DISPLAY
DESCRIPTION:Municipal Regulation of Agriculture\n\nStakeholder Testimony 
 by Vermont League of Cities and Town\n\nJosh Hanford\, Director of Inter
 governmental Affairs\, Vermont League of Cities and Towns\n\nSamantha Sh
 eehan\, Municipal Policy and Advocacy Specialist\, Vermont League of Cit
 ies and Towns - Room 49
END:VALARM
END:VCALENDAR
