BEGIN:VCALENDAR
CALSCALE:GREGORIAN
PRODID:-//Ben Fortuna//iCal4j 1.0//EN
VERSION:2.0
BEGIN:VEVENT
DTSTAMP:20260120T190010Z
DTSTART:20260121T133000
DTEND:20260121T153000
SUMMARY:Vermont Student Assistance Corporation\n\nUpdate and priorities\n
 \nScott Giles\, President\, Vermont Student Assistance Corporation\n\nTh
 omas Little\, Vice President\, General Counsel\, Vermont Student Assista
 nce Corporation - Room 28
TZID:America/New_York
UID:20260120T190138Z-uidGen@richgoldman-357e73
END:VEVENT
BEGIN:VALARM
TRIGGER:-PT15M
ACTION:DISPLAY
DESCRIPTION:Vermont Student Assistance Corporation\n\nUpdate and prioriti
 es\n\nScott Giles\, President\, Vermont Student Assistance Corporation\n
 \nThomas Little\, Vice President\, General Counsel\, Vermont Student Ass
 istance Corporation - Room 28
END:VALARM
END:VCALENDAR
