BEGIN:VCALENDAR
CALSCALE:GREGORIAN
PRODID:-//Ben Fortuna//iCal4j 1.0//EN
VERSION:2.0
BEGIN:VEVENT
DTSTAMP:20260120T190010Z
DTSTART:20260121T133000
DTEND:20260121T153000
SUMMARY:H. 508 - An act relating to approval of amendments to the charter
  of the City of Burlington\n\nMark-up and possible vote\n\nTucker Anders
 on\, Legislative Counsel\, Office of Legislative Counsel - Room M106
TZID:America/New_York
UID:20260120T190134Z-uidGen@richgoldman-357e73
END:VEVENT
BEGIN:VALARM
TRIGGER:-PT15M
ACTION:DISPLAY
DESCRIPTION:H. 508 - An act relating to approval of amendments to the cha
 rter of the City of Burlington\n\nMark-up and possible vote\n\nTucker An
 derson\, Legislative Counsel\, Office of Legislative Counsel - Room M106
 
END:VALARM
END:VCALENDAR
