BEGIN:VCALENDAR
CALSCALE:GREGORIAN
PRODID:-//Ben Fortuna//iCal4j 1.0//EN
VERSION:2.0
BEGIN:VEVENT
DTSTAMP:20260121T200010Z
DTSTART:20260121T134500
DTEND:20260121T154500
SUMMARY:Captive Insurance Day\n\nIan Davis\, President\, Vermont Captive 
 Insurance Association\n\nJulie Bordo\, PCH Mutual Insurance\n\nBrittany 
 Nevins\, Captive Insurance Economic Development Director\, Vermont Depar
 tment of Economic Development - Room 6
TZID:America/New_York
UID:20260121T200036Z-uidGen@richgoldman-357e73
END:VEVENT
BEGIN:VALARM
TRIGGER:-PT15M
ACTION:DISPLAY
DESCRIPTION:Captive Insurance Day\n\nIan Davis\, President\, Vermont Capt
 ive Insurance Association\n\nJulie Bordo\, PCH Mutual Insurance\n\nBritt
 any Nevins\, Captive Insurance Economic Development Director\, Vermont D
 epartment of Economic Development - Room 6
END:VALARM
END:VCALENDAR
