BEGIN:VCALENDAR
CALSCALE:GREGORIAN
PRODID:-//Ben Fortuna//iCal4j 1.0//EN
VERSION:2.0
BEGIN:VEVENT
DTSTAMP:20260120T150010Z
DTSTART:20260121T140000
DTEND:20260121T160000
SUMMARY:Vermont Captive Insurance Association\n\nBrittany Nevins\, Captiv
 e Insurance Economic Development Director\, Vermont Department of Econom
 ic Development\n\nIan Davis\, President\, Vermont Captive Insurance Asso
 ciation\n\nJulie Bordo\, PCH Mutual Insurance - Room 35
TZID:America/New_York
UID:20260120T150105Z-uidGen@richgoldman-357e73
END:VEVENT
BEGIN:VALARM
TRIGGER:-PT15M
ACTION:DISPLAY
DESCRIPTION:Vermont Captive Insurance Association\n\nBrittany Nevins\, Ca
 ptive Insurance Economic Development Director\, Vermont Department of Ec
 onomic Development\n\nIan Davis\, President\, Vermont Captive Insurance 
 Association\n\nJulie Bordo\, PCH Mutual Insurance - Room 35
END:VALARM
END:VCALENDAR
