BEGIN:VCALENDAR
CALSCALE:GREGORIAN
PRODID:-//Ben Fortuna//iCal4j 1.0//EN
VERSION:2.0
BEGIN:VEVENT
DTSTAMP:20260120T210010Z
DTSTART:20260121T140000
DTEND:20260121T160000
SUMMARY:Security Briefing\n\nThis will not be livestreamed due to sensiti
 ve content\n\nAgatha Kessler\, Sergeant at Arms\, Vermont General Assemb
 ly\n\nJohn Poleway\, Chief of Capitol Police\, Capitol Police Department
 \n\nJoe Tremblay\, Capitol Police Officer\, Capitol Police Department\n\
 nSara Macera\, Officer\, Capitol Police Department - Room 42
TZID:America/New_York
UID:20260120T210042Z-uidGen@richgoldman-357e73
END:VEVENT
BEGIN:VALARM
TRIGGER:-PT15M
ACTION:DISPLAY
DESCRIPTION:Security Briefing\n\nThis will not be livestreamed due to sen
 sitive content\n\nAgatha Kessler\, Sergeant at Arms\, Vermont General As
 sembly\n\nJohn Poleway\, Chief of Capitol Police\, Capitol Police Depart
 ment\n\nJoe Tremblay\, Capitol Police Officer\, Capitol Police Departmen
 t\n\nSara Macera\, Officer\, Capitol Police Department - Room 42
END:VALARM
END:VCALENDAR
