BEGIN:VCALENDAR
CALSCALE:GREGORIAN
PRODID:-//Ben Fortuna//iCal4j 1.0//EN
VERSION:2.0
BEGIN:VEVENT
DTSTAMP:20260121T210010Z
DTSTART:20260121T141700
DTEND:20260121T161700
SUMMARY:Agency of Transportation FY27 Budget\n\nRail Program Budget\n\nDa
 n Delabruere\, Rail Director\, Agency of Transportation - Room 43
TZID:America/New_York
UID:20260121T210019Z-uidGen@richgoldman-357e73
END:VEVENT
BEGIN:VALARM
TRIGGER:-PT15M
ACTION:DISPLAY
DESCRIPTION:Agency of Transportation FY27 Budget\n\nRail Program Budget\n
 \nDan Delabruere\, Rail Director\, Agency of Transportation - Room 43
END:VALARM
END:VCALENDAR
