BEGIN:VCALENDAR
CALSCALE:GREGORIAN
PRODID:-//Ben Fortuna//iCal4j 1.0//EN
VERSION:2.0
BEGIN:VEVENT
DTSTAMP:20260120T160010Z
DTSTART:20260121T140000
DTEND:20260121T160000
SUMMARY:Budget Adjustment Act\n\nWellpath General Fund\n\nMarlene Betit\,
  Executive Director of Finance\, Department of Corrections\n\nAviva Teva
 h\, Executive Director of Health\, Wellness and Engagement\, Department 
 of Corrections\n\nRep. Trevor Squirrell\, Representative\, House Committ
 ee on Appropriations - Room 34
TZID:America/New_York
UID:20260120T160054Z-uidGen@richgoldman-357e73
END:VEVENT
BEGIN:VALARM
TRIGGER:-PT15M
ACTION:DISPLAY
DESCRIPTION:Budget Adjustment Act\n\nWellpath General Fund\n\nMarlene Bet
 it\, Executive Director of Finance\, Department of Corrections\n\nAviva 
 Tevah\, Executive Director of Health\, Wellness and Engagement\, Departm
 ent of Corrections\n\nRep. Trevor Squirrell\, Representative\, House Com
 mittee on Appropriations - Room 34
END:VALARM
END:VCALENDAR
