BEGIN:VCALENDAR
CALSCALE:GREGORIAN
PRODID:-//Ben Fortuna//iCal4j 1.0//EN
VERSION:2.0
BEGIN:VEVENT
DTSTAMP:20260120T160010Z
DTSTART:20260121T140000
DTEND:20260121T160000
SUMMARY:Agency of Human Services\n\nOverview of Structure and Operations\
 n\nDoug Racine\, Former Lieutenant Governor\, Former Secretary of Human 
 Services\n\nJenney Samuelson\, Secretary\, Agency of Human Services - Ro
 om 4
TZID:America/New_York
UID:20260120T160056Z-uidGen@richgoldman-357e73
END:VEVENT
BEGIN:VALARM
TRIGGER:-PT15M
ACTION:DISPLAY
DESCRIPTION:Agency of Human Services\n\nOverview of Structure and Operati
 ons\n\nDoug Racine\, Former Lieutenant Governor\, Former Secretary of Hu
 man Services\n\nJenney Samuelson\, Secretary\, Agency of Human Services 
 - Room 4
END:VALARM
END:VCALENDAR
