BEGIN:VCALENDAR
CALSCALE:GREGORIAN
PRODID:-//Ben Fortuna//iCal4j 1.0//EN
VERSION:2.0
BEGIN:VEVENT
DTSTAMP:20260121T200010Z
DTSTART:20260121T135000
DTEND:20260121T155000
SUMMARY:Budget Adjustment Act\n\nOffice of Legislative Council\n\nBrynn H
 are\, Director and Chief Counsel\, Office of Legislative Counsel\n\nScot
 t Moore\, Legislative Finance Manager\, Joint Fiscal Office - Room 5
TZID:America/New_York
UID:20260121T200039Z-uidGen@richgoldman-357e73
END:VEVENT
BEGIN:VALARM
TRIGGER:-PT15M
ACTION:DISPLAY
DESCRIPTION:Budget Adjustment Act\n\nOffice of Legislative Council\n\nBry
 nn Hare\, Director and Chief Counsel\, Office of Legislative Counsel\n\n
 Scott Moore\, Legislative Finance Manager\, Joint Fiscal Office - Room 5
 
END:VALARM
END:VCALENDAR
