BEGIN:VCALENDAR
CALSCALE:GREGORIAN
PRODID:-//Ben Fortuna//iCal4j 1.0//EN
VERSION:2.0
BEGIN:VEVENT
DTSTAMP:20260121T150010Z
DTSTART:20260121T141500
DTEND:20260121T161500
SUMMARY:Adjourn\n\n" - Room 9
TZID:America/New_York
UID:20260121T150109Z-uidGen@richgoldman-357e73
END:VEVENT
BEGIN:VALARM
TRIGGER:-PT15M
ACTION:DISPLAY
DESCRIPTION:Adjourn\n\n" - Room 9
END:VALARM
END:VCALENDAR
