BEGIN:VCALENDAR
CALSCALE:GREGORIAN
PRODID:-//Ben Fortuna//iCal4j 1.0//EN
VERSION:2.0
BEGIN:VEVENT
DTSTAMP:20260120T200010Z
DTSTART:20260121T140000
DTEND:20260121T160000
SUMMARY:Committee Discussion\n\nAct 73 of 2025 - Room M103
TZID:America/New_York
UID:20260120T200045Z-uidGen@richgoldman-357e73
END:VEVENT
BEGIN:VALARM
TRIGGER:-PT15M
ACTION:DISPLAY
DESCRIPTION:Committee Discussion\n\nAct 73 of 2025 - Room M103
END:VALARM
END:VCALENDAR
