BEGIN:VCALENDAR
CALSCALE:GREGORIAN
PRODID:-//Ben Fortuna//iCal4j 1.0//EN
VERSION:2.0
BEGIN:VEVENT
DTSTAMP:20260120T190010Z
DTSTART:20260121T141500
DTEND:20260121T161500
SUMMARY:Vermont Captive Insurance Association\n\nIan Davis\, President\, 
 Vermont Captive Insurance Association\n\nJulie Bordo\, Vice-Chair\, PCH 
 Mutual Insurance\n\nBrittany Nevins\, Captive Insurance Economic Develop
 ment Director\, Vermont Department of Economic Development - Room 35
TZID:America/New_York
UID:20260120T190139Z-uidGen@richgoldman-357e73
END:VEVENT
BEGIN:VALARM
TRIGGER:-PT15M
ACTION:DISPLAY
DESCRIPTION:Vermont Captive Insurance Association\n\nIan Davis\, Presiden
 t\, Vermont Captive Insurance Association\n\nJulie Bordo\, Vice-Chair\, 
 PCH Mutual Insurance\n\nBrittany Nevins\, Captive Insurance Economic Dev
 elopment Director\, Vermont Department of Economic Development - Room 35
 
END:VALARM
END:VCALENDAR
