BEGIN:VCALENDAR
CALSCALE:GREGORIAN
PRODID:-//Ben Fortuna//iCal4j 1.0//EN
VERSION:2.0
BEGIN:VEVENT
DTSTAMP:20260120T200010Z
DTSTART:20260121T141500
DTEND:20260121T161500
SUMMARY:Building Bright Futures\n\nMorgan Crossman\, Ph.D.\, Executive Di
 rector\, Building Bright Futures - Room 28
TZID:America/New_York
UID:20260120T200049Z-uidGen@richgoldman-357e73
END:VEVENT
BEGIN:VALARM
TRIGGER:-PT15M
ACTION:DISPLAY
DESCRIPTION:Building Bright Futures\n\nMorgan Crossman\, Ph.D.\, Executiv
 e Director\, Building Bright Futures - Room 28
END:VALARM
END:VCALENDAR
