BEGIN:VCALENDAR
CALSCALE:GREGORIAN
PRODID:-//Ben Fortuna//iCal4j 1.0//EN
VERSION:2.0
BEGIN:VEVENT
DTSTAMP:20260121T200010Z
DTSTART:20260121T140000
DTEND:20260121T160000
SUMMARY:Budget Adjustment Act\n\nVermont State Teachers Retirement System
  Federal Grants Assessment\n\nTim Duggan\, Director of Vermont Retiremen
 t Systems\, Office of the State Treasurer\n\nJeremiah Breer\, Chief Fina
 ncial Officer\, Office of the State Treasurer - Room 5
TZID:America/New_York
UID:20260121T200043Z-uidGen@richgoldman-357e73
END:VEVENT
BEGIN:VALARM
TRIGGER:-PT15M
ACTION:DISPLAY
DESCRIPTION:Budget Adjustment Act\n\nVermont State Teachers Retirement Sy
 stem Federal Grants Assessment\n\nTim Duggan\, Director of Vermont Retir
 ement Systems\, Office of the State Treasurer\n\nJeremiah Breer\, Chief 
 Financial Officer\, Office of the State Treasurer - Room 5
END:VALARM
END:VCALENDAR
