BEGIN:VCALENDAR
CALSCALE:GREGORIAN
PRODID:-//Ben Fortuna//iCal4j 1.0//EN
VERSION:2.0
BEGIN:VEVENT
DTSTAMP:20260120T190010Z
DTSTART:20260121T142000
DTEND:20260121T162000
SUMMARY:Vermont Agency of Agriculture\, Food & Markets\n\n1787 Butchery U
 pdates\n\nGlenn Evans\, Executive Director\, Center for Agriculture and 
 Food Entrepreneurship\, Vermont State University - Room 49
TZID:America/New_York
UID:20260120T190146Z-uidGen@richgoldman-357e73
END:VEVENT
BEGIN:VALARM
TRIGGER:-PT15M
ACTION:DISPLAY
DESCRIPTION:Vermont Agency of Agriculture\, Food & Markets\n\n1787 Butche
 ry Updates\n\nGlenn Evans\, Executive Director\, Center for Agriculture 
 and Food Entrepreneurship\, Vermont State University - Room 49
END:VALARM
END:VCALENDAR
