BEGIN:VCALENDAR
CALSCALE:GREGORIAN
PRODID:-//Ben Fortuna//iCal4j 1.0//EN
VERSION:2.0
BEGIN:VEVENT
DTSTAMP:20260121T150010Z
DTSTART:20260121T142000
DTEND:20260121T162000
SUMMARY:Center for Agriculture and Food Entrepreneurship\, VSU\n\n1787 Bu
 tchery Updates\n\nGlenn Evans\, Executive Director\, Center for Agricult
 ure and Food Entrepreneurship\, Vermont State University - Zoom - Room 4
 9
TZID:America/New_York
UID:20260121T150111Z-uidGen@richgoldman-357e73
END:VEVENT
BEGIN:VALARM
TRIGGER:-PT15M
ACTION:DISPLAY
DESCRIPTION:Center for Agriculture and Food Entrepreneurship\, VSU\n\n178
 7 Butchery Updates\n\nGlenn Evans\, Executive Director\, Center for Agri
 culture and Food Entrepreneurship\, Vermont State University - Zoom - Ro
 om 49
END:VALARM
END:VCALENDAR
