BEGIN:VCALENDAR
CALSCALE:GREGORIAN
PRODID:-//Ben Fortuna//iCal4j 1.0//EN
VERSION:2.0
BEGIN:VEVENT
DTSTAMP:20260121T150010Z
DTSTART:20260121T141500
DTEND:20260121T161500
SUMMARY:H. 693 - An act relating to approval of amendments to the charter
  of the Town of Bennington concerning the Town police department\n\nIntr
 oduction\n\nRep. William "Will" Greer\, Sponsor\, House Corrections and 
 Institutions\n\nTucker Anderson\, Legislative Counsel\, Office of Legisl
 ative Counsel - Room M106
TZID:America/New_York
UID:20260121T150107Z-uidGen@richgoldman-357e73
END:VEVENT
BEGIN:VALARM
TRIGGER:-PT15M
ACTION:DISPLAY
DESCRIPTION:H. 693 - An act relating to approval of amendments to the cha
 rter of the Town of Bennington concerning the Town police department\n\n
 Introduction\n\nRep. William "Will" Greer\, Sponsor\, House Corrections 
 and Institutions\n\nTucker Anderson\, Legislative Counsel\, Office of Le
 gislative Counsel - Room M106
END:VALARM
END:VCALENDAR
