BEGIN:VCALENDAR
CALSCALE:GREGORIAN
PRODID:-//Ben Fortuna//iCal4j 1.0//EN
VERSION:2.0
BEGIN:VEVENT
DTSTAMP:20260121T220011Z
DTSTART:20260121T142000
DTEND:20260121T162000
SUMMARY:Federal Impacts on Health Insurance\n\nAdaline Strumolo\, Deputy 
 Commissioner\, Department of Vermont Health Access (DVHA) - Zoom\n\nJill
  Mazza Olson\, Medicaid and Health Systems Director\, Agency of Human Se
 rvices\n\nAshley Berliner\, Director of Medicaid Policy\, Agency of Huma
 n Services\n\nMike Fisher\, Chief Health Care Advocate\, Vermont Legal A
 id - Room 6
TZID:America/New_York
UID:20260121T220011Z-uidGen@richgoldman-357e73
END:VEVENT
BEGIN:VALARM
TRIGGER:-PT15M
ACTION:DISPLAY
DESCRIPTION:Federal Impacts on Health Insurance\n\nAdaline Strumolo\, Dep
 uty Commissioner\, Department of Vermont Health Access (DVHA) - Zoom\n\n
 Jill Mazza Olson\, Medicaid and Health Systems Director\, Agency of Huma
 n Services\n\nAshley Berliner\, Director of Medicaid Policy\, Agency of 
 Human Services\n\nMike Fisher\, Chief Health Care Advocate\, Vermont Leg
 al Aid - Room 6
END:VALARM
END:VCALENDAR
