BEGIN:VCALENDAR
CALSCALE:GREGORIAN
PRODID:-//Ben Fortuna//iCal4j 1.0//EN
VERSION:2.0
BEGIN:VEVENT
DTSTAMP:20260121T220011Z
DTSTART:20260121T144000
DTEND:20260121T164000
SUMMARY:Building Bright Futures\n\nUpdates and priorities continued\n\nMo
 rgan Crossman\, Ph.D.\, Executive Director\, Building Bright Futures\n\n
 Matt Levin\, Executive Director\, Early Childhood Advocacy Alliance - Ro
 om 28
TZID:America/New_York
UID:20260121T220013Z-uidGen@richgoldman-357e73
END:VEVENT
BEGIN:VALARM
TRIGGER:-PT15M
ACTION:DISPLAY
DESCRIPTION:Building Bright Futures\n\nUpdates and priorities continued\n
 \nMorgan Crossman\, Ph.D.\, Executive Director\, Building Bright Futures
 \n\nMatt Levin\, Executive Director\, Early Childhood Advocacy Alliance 
 - Room 28
END:VALARM
END:VCALENDAR
