BEGIN:VCALENDAR
CALSCALE:GREGORIAN
PRODID:-//Ben Fortuna//iCal4j 1.0//EN
VERSION:2.0
BEGIN:VEVENT
DTSTAMP:20260120T160010Z
DTSTART:20260121T150100
DTEND:20260121T170100
SUMMARY:H. 648 - An act relating to banking\, insurance\, and securities\
 n\nMaria Royle\, Legislative Counsel\, Office of Legislative Counsel\n\n
 Ted Barnett\, Fiscal Analyst\, Joint Fiscal Office\n\nPatrick Titterton\
 , Senior Fiscal Analyst\, Joint Fiscal Office\n\n" - Room 45
TZID:America/New_York
UID:20260120T160058Z-uidGen@richgoldman-357e73
END:VEVENT
BEGIN:VALARM
TRIGGER:-PT15M
ACTION:DISPLAY
DESCRIPTION:H. 648 - An act relating to banking\, insurance\, and securit
 ies\n\nMaria Royle\, Legislative Counsel\, Office of Legislative Counsel
 \n\nTed Barnett\, Fiscal Analyst\, Joint Fiscal Office\n\nPatrick Titter
 ton\, Senior Fiscal Analyst\, Joint Fiscal Office\n\n" - Room 45
END:VALARM
END:VCALENDAR
