BEGIN:VCALENDAR
CALSCALE:GREGORIAN
PRODID:-//Ben Fortuna//iCal4j 1.0//EN
VERSION:2.0
BEGIN:VEVENT
DTSTAMP:20260120T000010Z
DTSTART:20260121T143000
DTEND:20260121T163000
SUMMARY:Budget Adjustment Act\n\nDepartment of Liquor and Lottery\n\nWend
 y Knight\, Commissioner\, Department of Liquor and Lottery - Room 5
TZID:America/New_York
UID:20260120T000028Z-uidGen@richgoldman-357e73
END:VEVENT
BEGIN:VALARM
TRIGGER:-PT15M
ACTION:DISPLAY
DESCRIPTION:Budget Adjustment Act\n\nDepartment of Liquor and Lottery\n\n
 Wendy Knight\, Commissioner\, Department of Liquor and Lottery - Room 5
END:VALARM
END:VCALENDAR
