BEGIN:VCALENDAR
CALSCALE:GREGORIAN
PRODID:-//Ben Fortuna//iCal4j 1.0//EN
VERSION:2.0
BEGIN:VEVENT
DTSTAMP:20260121T150010Z
DTSTART:20260121T143500
DTEND:20260121T163500
SUMMARY:H. 695 - An act relating to approval of amendments to the charter
  of the Town of Bennington concerning a local option tax on short-term r
 entals\n\nIntroduction\n\nRep. William "Will" Greer\, Sponsor\, House Co
 rrections and Institutions\n\nTucker Anderson\, Legislative Counsel\, Of
 fice of Legislative Counsel - Room M106
TZID:America/New_York
UID:20260121T150113Z-uidGen@richgoldman-357e73
END:VEVENT
BEGIN:VALARM
TRIGGER:-PT15M
ACTION:DISPLAY
DESCRIPTION:H. 695 - An act relating to approval of amendments to the cha
 rter of the Town of Bennington concerning a local option tax on short-te
 rm rentals\n\nIntroduction\n\nRep. William "Will" Greer\, Sponsor\, Hous
 e Corrections and Institutions\n\nTucker Anderson\, Legislative Counsel\
 , Office of Legislative Counsel - Room M106
END:VALARM
END:VCALENDAR
