BEGIN:VCALENDAR
CALSCALE:GREGORIAN
PRODID:-//Ben Fortuna//iCal4j 1.0//EN
VERSION:2.0
BEGIN:VEVENT
DTSTAMP:20260121T150010Z
DTSTART:20260121T144000
DTEND:20260121T164000
SUMMARY:H. 696 - An act relating to approval of amendments to the charter
  of the Town of Bennington concerning municipal liens\n\nIntroduction\n\
 nRep. William "Will" Greer\, Sponsor\, House Corrections and Institution
 s\n\nTucker Anderson\, Legislative Counsel\, Office of Legislative Couns
 el - Room M106
TZID:America/New_York
UID:20260121T150114Z-uidGen@richgoldman-357e73
END:VEVENT
BEGIN:VALARM
TRIGGER:-PT15M
ACTION:DISPLAY
DESCRIPTION:H. 696 - An act relating to approval of amendments to the cha
 rter of the Town of Bennington concerning municipal liens\n\nIntroductio
 n\n\nRep. William "Will" Greer\, Sponsor\, House Corrections and Institu
 tions\n\nTucker Anderson\, Legislative Counsel\, Office of Legislative C
 ounsel - Room M106
END:VALARM
END:VCALENDAR
