BEGIN:VCALENDAR
CALSCALE:GREGORIAN
PRODID:-//Ben Fortuna//iCal4j 1.0//EN
VERSION:2.0
BEGIN:VEVENT
DTSTAMP:20260121T200010Z
DTSTART:20260121T150100
DTEND:20260121T170100
SUMMARY:H. 583 - An act relating to health care financial transactions an
 d clinical decision making\n\nTestimony\n\nMichael Barber\, General Coun
 sel\, Green Mountain Care Board\n\nTodd Daloz\, Director of Policy and L
 egislative Affairs\, Attorney General's Office - Room 42
TZID:America/New_York
UID:20260121T200058Z-uidGen@richgoldman-357e73
END:VEVENT
BEGIN:VALARM
TRIGGER:-PT15M
ACTION:DISPLAY
DESCRIPTION:H. 583 - An act relating to health care financial transaction
 s and clinical decision making\n\nTestimony\n\nMichael Barber\, General 
 Counsel\, Green Mountain Care Board\n\nTodd Daloz\, Director of Policy a
 nd Legislative Affairs\, Attorney General's Office - Room 42
END:VALARM
END:VCALENDAR
