BEGIN:VCALENDAR
CALSCALE:GREGORIAN
PRODID:-//Ben Fortuna//iCal4j 1.0//EN
VERSION:2.0
BEGIN:VEVENT
DTSTAMP:20260121T210010Z
DTSTART:20260121T145000
DTEND:20260121T165000
SUMMARY:Budget Adjustment Act\n\nAgency of Natural Resources\n\nJulie Moo
 re\, Secretary\, Agency of Natural Resources\n\nSteve Gomez\, Chief Fina
 ncial Officer\, Agency of Natural Resources\n\nCharles Martin\, Deputy S
 ecretary\, Agency of Natural Resources - Room 5
TZID:America/New_York
UID:20260121T210022Z-uidGen@richgoldman-357e73
END:VEVENT
BEGIN:VALARM
TRIGGER:-PT15M
ACTION:DISPLAY
DESCRIPTION:Budget Adjustment Act\n\nAgency of Natural Resources\n\nJulie
  Moore\, Secretary\, Agency of Natural Resources\n\nSteve Gomez\, Chief 
 Financial Officer\, Agency of Natural Resources\n\nCharles Martin\, Depu
 ty Secretary\, Agency of Natural Resources - Room 5
END:VALARM
END:VCALENDAR
