BEGIN:VCALENDAR
CALSCALE:GREGORIAN
PRODID:-//Ben Fortuna//iCal4j 1.0//EN
VERSION:2.0
BEGIN:VEVENT
DTSTAMP:20260121T200010Z
DTSTART:20260121T151500
DTEND:20260121T171500
SUMMARY:Security Briefing\n\nThis will not be livestreamed due to sensiti
 ve content\n\nAgatha Kessler\, Sergeant at Arms\, Vermont General Assemb
 ly\n\nSara Macera\, Sergeant\, Capitol Police Department\n\nJohn Poleway
 \, Chief of Capitol Police\, Capitol Police Department\n\nJoe Tremblay\,
  Capitol Police Officer\, Capitol Police Department - Room 4
TZID:America/New_York
UID:20260121T200102Z-uidGen@richgoldman-357e73
END:VEVENT
BEGIN:VALARM
TRIGGER:-PT15M
ACTION:DISPLAY
DESCRIPTION:Security Briefing\n\nThis will not be livestreamed due to sen
 sitive content\n\nAgatha Kessler\, Sergeant at Arms\, Vermont General As
 sembly\n\nSara Macera\, Sergeant\, Capitol Police Department\n\nJohn Pol
 eway\, Chief of Capitol Police\, Capitol Police Department\n\nJoe Trembl
 ay\, Capitol Police Officer\, Capitol Police Department - Room 4
END:VALARM
END:VCALENDAR
