BEGIN:VCALENDAR
CALSCALE:GREGORIAN
PRODID:-//Ben Fortuna//iCal4j 1.0//EN
VERSION:2.0
BEGIN:VEVENT
DTSTAMP:20260121T210010Z
DTSTART:20260121T154500
DTEND:20260121T174500
SUMMARY:H. 648 - An act relating to banking\, insurance\, and securities\
 n\npotential vote\n\nMaria Royle\, Legislative Counsel\, Office of Legis
 lative Counsel\n\nPatrick Titterton\, Senior Fiscal Analyst\, Joint Fisc
 al Office\n\n" - Room 45
TZID:America/New_York
UID:20260121T210026Z-uidGen@richgoldman-357e73
END:VEVENT
BEGIN:VALARM
TRIGGER:-PT15M
ACTION:DISPLAY
DESCRIPTION:H. 648 - An act relating to banking\, insurance\, and securit
 ies\n\npotential vote\n\nMaria Royle\, Legislative Counsel\, Office of L
 egislative Counsel\n\nPatrick Titterton\, Senior Fiscal Analyst\, Joint 
 Fiscal Office\n\n" - Room 45
END:VALARM
END:VCALENDAR
