BEGIN:VCALENDAR
CALSCALE:GREGORIAN
PRODID:-//Ben Fortuna//iCal4j 1.0//EN
VERSION:2.0
BEGIN:VEVENT
DTSTAMP:20260121T220011Z
DTSTART:20260121T153000
DTEND:20260121T173000
SUMMARY:General Fund vs. Ed Fund Retirement Expenses\n\nChris Rupe\, Asso
 ciate Fiscal Officer\, Joint Fiscal Office - Room 6
TZID:America/New_York
UID:20260121T220020Z-uidGen@richgoldman-357e73
END:VEVENT
BEGIN:VALARM
TRIGGER:-PT15M
ACTION:DISPLAY
DESCRIPTION:General Fund vs. Ed Fund Retirement Expenses\n\nChris Rupe\, 
 Associate Fiscal Officer\, Joint Fiscal Office - Room 6
END:VALARM
END:VCALENDAR
