BEGIN:VCALENDAR
CALSCALE:GREGORIAN
PRODID:-//Ben Fortuna//iCal4j 1.0//EN
VERSION:2.0
BEGIN:VEVENT
DTSTAMP:20260122T160010Z
DTSTART:20260122T090000
DTEND:20260122T110000
SUMMARY:Emergency Board Meeting\n\nJoint meeting with Senate Transportati
 on. House Transportation will join via Zoom and will be livestreamed on 
 Senate Transportation's Youtube Channel.\n\nWatch Live: https://www.yout
 ube.com/@VTSenateTransportation\n\nTom Kavet\, Legislative Economist\, K
 avet\, Rockler & Associates\, LLC - Room 43
TZID:America/New_York
UID:20260122T160018Z-uidGen@richgoldman-357e73
END:VEVENT
BEGIN:VALARM
TRIGGER:-PT15M
ACTION:DISPLAY
DESCRIPTION:Emergency Board Meeting\n\nJoint meeting with Senate Transpor
 tation. House Transportation will join via Zoom and will be livestreamed
  on Senate Transportation's Youtube Channel.\n\nWatch Live: https://www.
 youtube.com/@VTSenateTransportation\n\nTom Kavet\, Legislative Economist
 \, Kavet\, Rockler & Associates\, LLC - Room 43
END:VALARM
END:VCALENDAR
