BEGIN:VCALENDAR
CALSCALE:GREGORIAN
PRODID:-//Ben Fortuna//iCal4j 1.0//EN
VERSION:2.0
BEGIN:VEVENT
DTSTAMP:20260120T190010Z
DTSTART:20260122T090000
DTEND:20260122T110000
SUMMARY:Northeast Kingdom Day\n\nRick Ufford-Chase\, Mayor\, Newport\n\nP
 eggy Clay\, VT Aero Space\n\nAsha Marshall\, Weidmann Electrical Technol
 ogy\n\nBill Stimpson\, Weidmann Electrical Technology\n\nKayla Veilleux\
 , NEK Young Professionals Network\n\nBurton Hinton\, President\, Burke A
 rea Chamber - Room 35
TZID:America/New_York
UID:20260120T190147Z-uidGen@richgoldman-357e73
END:VEVENT
BEGIN:VALARM
TRIGGER:-PT15M
ACTION:DISPLAY
DESCRIPTION:Northeast Kingdom Day\n\nRick Ufford-Chase\, Mayor\, Newport\
 n\nPeggy Clay\, VT Aero Space\n\nAsha Marshall\, Weidmann Electrical Tec
 hnology\n\nBill Stimpson\, Weidmann Electrical Technology\n\nKayla Veill
 eux\, NEK Young Professionals Network\n\nBurton Hinton\, President\, Bur
 ke Area Chamber - Room 35
END:VALARM
END:VCALENDAR
