BEGIN:VCALENDAR
CALSCALE:GREGORIAN
PRODID:-//Ben Fortuna//iCal4j 1.0//EN
VERSION:2.0
BEGIN:VEVENT
DTSTAMP:20260120T150010Z
DTSTART:20260122T090000
DTEND:20260122T110000
SUMMARY:NEK Day\n\nHousing Initiatives Discussion\n\nCarey Crozier\, Head
 waters Community Trust\n\nMike Morin\, Northern Forest Center\n\nPaige H
 artsell\, Executive Director\, KuRRve & NEK Organizing\n\nTerri Lavely\,
  NEK Human Services\n\nTheodore Colbath\, Lunenburg - Room 31
TZID:America/New_York
UID:20260120T150107Z-uidGen@richgoldman-357e73
END:VEVENT
BEGIN:VALARM
TRIGGER:-PT15M
ACTION:DISPLAY
DESCRIPTION:NEK Day\n\nHousing Initiatives Discussion\n\nCarey Crozier\, 
 Headwaters Community Trust\n\nMike Morin\, Northern Forest Center\n\nPai
 ge Hartsell\, Executive Director\, KuRRve & NEK Organizing\n\nTerri Lave
 ly\, NEK Human Services\n\nTheodore Colbath\, Lunenburg - Room 31
END:VALARM
END:VCALENDAR
