BEGIN:VCALENDAR
CALSCALE:GREGORIAN
PRODID:-//Ben Fortuna//iCal4j 1.0//EN
VERSION:2.0
BEGIN:VEVENT
DTSTAMP:20260122T160010Z
DTSTART:20260122T090000
DTEND:20260122T110000
SUMMARY:NEK Day\n\nHousing Initiatives Discussion\n\nCarey Crozier\, Boar
 d Member\, Headwaters Community Trust\n\nMike Reddy\, Founding Board Mem
 ber\, Headwaters Community Trust\, Northeast Kingdom Organizing\n\nMike 
 Morin\, VT/ NH Program Director \, Northern Forest Center\n\nPaige Harts
 ell\, Executive Director\, KuRRve & NEK Organizing\n\nTerri Lavely\, Dir
 ector of Community Engagement\, NEK Human Services\n\nTheodore Colbath\,
  Floor Survivor\, Lunenburg - Room 31
TZID:America/New_York
UID:20260122T160012Z-uidGen@richgoldman-357e73
END:VEVENT
BEGIN:VALARM
TRIGGER:-PT15M
ACTION:DISPLAY
DESCRIPTION:NEK Day\n\nHousing Initiatives Discussion\n\nCarey Crozier\, 
 Board Member\, Headwaters Community Trust\n\nMike Reddy\, Founding Board
  Member\, Headwaters Community Trust\, Northeast Kingdom Organizing\n\nM
 ike Morin\, VT/ NH Program Director \, Northern Forest Center\n\nPaige H
 artsell\, Executive Director\, KuRRve & NEK Organizing\n\nTerri Lavely\,
  Director of Community Engagement\, NEK Human Services\n\nTheodore Colba
 th\, Floor Survivor\, Lunenburg - Room 31
END:VALARM
END:VCALENDAR
