BEGIN:VCALENDAR
CALSCALE:GREGORIAN
PRODID:-//Ben Fortuna//iCal4j 1.0//EN
VERSION:2.0
BEGIN:VEVENT
DTSTAMP:20260122T020010Z
DTSTART:20260122T090000
DTEND:20260122T110000
SUMMARY:Capital Budget Overview\n\nSection 2\n\nWanda Minoli\, Commission
 er\, Department of Buildings and General Services\n\nJoe Aja\, Director 
 Design & Construction\, Department of Buildings and General Services\n\n
 Lauren Washburn\, Program Chief\, Design and Construction Division\, Bui
 ldings and General Services - Room 34
TZID:America/New_York
UID:20260122T020012Z-uidGen@richgoldman-357e73
END:VEVENT
BEGIN:VALARM
TRIGGER:-PT15M
ACTION:DISPLAY
DESCRIPTION:Capital Budget Overview\n\nSection 2\n\nWanda Minoli\, Commis
 sioner\, Department of Buildings and General Services\n\nJoe Aja\, Direc
 tor Design & Construction\, Department of Buildings and General Services
 \n\nLauren Washburn\, Program Chief\, Design and Construction Division\,
  Buildings and General Services - Room 34
END:VALARM
END:VCALENDAR
