BEGIN:VCALENDAR
CALSCALE:GREGORIAN
PRODID:-//Ben Fortuna//iCal4j 1.0//EN
VERSION:2.0
BEGIN:VEVENT
DTSTAMP:20260122T160010Z
DTSTART:20260122T090000
DTEND:20260122T110000
SUMMARY:Capital Budget Adjustment\n\nSection 2 - Buildings & General Serv
 ices\n\nWanda Minoli\, Commissioner\, Department of Buildings and Genera
 l Services\n\nJoe Aja\, Director Design & Construction\, Department of B
 uildings and General Services\n\nLauren Washburn\, Program Chief\, Desig
 n and Construction Division\, Buildings and General Services\n\nEmily Ki
 sicki\, Deputy Commissioner\, Department of Buildings and General Servic
 es - Room 34
TZID:America/New_York
UID:20260122T160011Z-uidGen@richgoldman-357e73
END:VEVENT
BEGIN:VALARM
TRIGGER:-PT15M
ACTION:DISPLAY
DESCRIPTION:Capital Budget Adjustment\n\nSection 2 - Buildings & General 
 Services\n\nWanda Minoli\, Commissioner\, Department of Buildings and Ge
 neral Services\n\nJoe Aja\, Director Design & Construction\, Department 
 of Buildings and General Services\n\nLauren Washburn\, Program Chief\, D
 esign and Construction Division\, Buildings and General Services\n\nEmil
 y Kisicki\, Deputy Commissioner\, Department of Buildings and General Se
 rvices - Room 34
END:VALARM
END:VCALENDAR
