BEGIN:VCALENDAR
CALSCALE:GREGORIAN
PRODID:-//Ben Fortuna//iCal4j 1.0//EN
VERSION:2.0
BEGIN:VEVENT
DTSTAMP:20260122T160010Z
DTSTART:20260122T092000
DTEND:20260122T112000
SUMMARY:Review of Reports - Room 45
TZID:America/New_York
UID:20260122T160036Z-uidGen@richgoldman-357e73
END:VEVENT
BEGIN:VALARM
TRIGGER:-PT15M
ACTION:DISPLAY
DESCRIPTION:Review of Reports - Room 45
END:VALARM
END:VCALENDAR
