BEGIN:VCALENDAR
CALSCALE:GREGORIAN
PRODID:-//Ben Fortuna//iCal4j 1.0//EN
VERSION:2.0
BEGIN:VEVENT
DTSTAMP:20260122T160010Z
DTSTART:20260122T090000
DTEND:20260122T110000
SUMMARY:S. 202 - An act relating to portable solar energy generation devi
 ces\n\nDraft Review\n\nEllen Czajkowski\, Legislative Counsel\, Office o
 f Legislative Counsel - Room 8
TZID:America/New_York
UID:20260122T160025Z-uidGen@richgoldman-357e73
END:VEVENT
BEGIN:VALARM
TRIGGER:-PT15M
ACTION:DISPLAY
DESCRIPTION:S. 202 - An act relating to portable solar energy generation 
 devices\n\nDraft Review\n\nEllen Czajkowski\, Legislative Counsel\, Offi
 ce of Legislative Counsel - Room 8
END:VALARM
END:VCALENDAR
