BEGIN:VCALENDAR
CALSCALE:GREGORIAN
PRODID:-//Ben Fortuna//iCal4j 1.0//EN
VERSION:2.0
BEGIN:VEVENT
DTSTAMP:20260120T130026Z
DTSTART:20260122T090000
DTEND:20260122T110000
SUMMARY:Vermont Food Bank\n\nCarrie Stahler\, Senior Government Affairs M
 anager\, Vermont Foodbank - Room 46
TZID:America/New_York
UID:20260120T130029Z-uidGen@richgoldman-357e73
END:VEVENT
BEGIN:VALARM
TRIGGER:-PT15M
ACTION:DISPLAY
DESCRIPTION:Vermont Food Bank\n\nCarrie Stahler\, Senior Government Affai
 rs Manager\, Vermont Foodbank - Room 46
END:VALARM
END:VCALENDAR
