BEGIN:VCALENDAR
CALSCALE:GREGORIAN
PRODID:-//Ben Fortuna//iCal4j 1.0//EN
VERSION:2.0
BEGIN:VEVENT
DTSTAMP:20260122T160010Z
DTSTART:20260122T090000
DTEND:20260122T110000
SUMMARY:S. 270 - An act relating to a right to charge electric vehicles a
 t home\n\nIntroduction\n\nSen. Andrew Perchlik\, Chair\, Sponsor - Room 
 27
TZID:America/New_York
UID:20260122T160021Z-uidGen@richgoldman-357e73
END:VEVENT
BEGIN:VALARM
TRIGGER:-PT15M
ACTION:DISPLAY
DESCRIPTION:S. 270 - An act relating to a right to charge electric vehicl
 es at home\n\nIntroduction\n\nSen. Andrew Perchlik\, Chair\, Sponsor - R
 oom 27
END:VALARM
END:VCALENDAR
