BEGIN:VCALENDAR
CALSCALE:GREGORIAN
PRODID:-//Ben Fortuna//iCal4j 1.0//EN
VERSION:2.0
BEGIN:VEVENT
DTSTAMP:20260120T190010Z
DTSTART:20260122T090000
DTEND:20260122T110000
SUMMARY:H. 626 - An act relating to voyeurism and disclosure of sexually 
 explicit images without consent\n\nWalk-Through and Witness Testimony\n\
 nMichele Childs\, Team Lead Legislative Counsel\, Office of Legislative 
 Counsel\n\nBrian Montgomery\n\nMary Rodee\n\nLowell Larson\, Undersherif
 f\, Marquette County Sheriff's Department - Room 30
TZID:America/New_York
UID:20260120T190153Z-uidGen@richgoldman-357e73
END:VEVENT
BEGIN:VALARM
TRIGGER:-PT15M
ACTION:DISPLAY
DESCRIPTION:H. 626 - An act relating to voyeurism and disclosure of sexua
 lly explicit images without consent\n\nWalk-Through and Witness Testimon
 y\n\nMichele Childs\, Team Lead Legislative Counsel\, Office of Legislat
 ive Counsel\n\nBrian Montgomery\n\nMary Rodee\n\nLowell Larson\, Undersh
 eriff\, Marquette County Sheriff's Department - Room 30
END:VALARM
END:VCALENDAR
